Index of /checkResults/3.14/bioc-LATEST/FindMyFriends/raw-results/tokay2
Name
Last modified
Size
Description
Parent Directory
-
buildsrc-out.txt
14-Apr-2022 01:06
26K
buildsrc-summary.dcf
14-Apr-2022 01:06
485
install-out.txt
14-Apr-2022 01:06
26K
install-summary.dcf
14-Apr-2022 01:06
697