Index of /checkResults/3.14/bioc-LATEST/FindMyFriends/raw-results/nebbiolo2
Name
Last modified
Size
Description
Parent Directory
-
buildsrc-out.txt
14-Apr-2022 01:05
27K
buildsrc-summary.dcf
14-Apr-2022 01:05
345
install-out.txt
14-Apr-2022 01:05
27K
install-summary.dcf
14-Apr-2022 01:05
274