Index of /checkResults/3.14/bioc-LATEST/FindMyFriends/raw-results/machv2
Name
Last modified
Size
Description
Parent Directory
-
buildsrc-out.txt
14-Apr-2022 01:07
13K
buildsrc-summary.dcf
14-Apr-2022 01:07
356
install-out.txt
14-Apr-2022 01:07
13K
install-summary.dcf
14-Apr-2022 01:07
284