Name | Last modified | Size | Description | |
---|---|---|---|---|
Parent Directory | - | |||
install-summary.dcf | 14-Apr-2022 01:06 | 712 | ||
install-out.txt | 14-Apr-2022 01:06 | 2.4K | ||
checksrc-summary.dcf | 14-Apr-2022 01:06 | 495 | ||
checksrc-out.txt | 14-Apr-2022 01:06 | 4.2K | ||
buildsrc-summary.dcf | 14-Apr-2022 01:06 | 490 | ||
buildsrc-out.txt | 14-Apr-2022 01:06 | 945 | ||
buildbin-summary.dcf | 14-Apr-2022 01:06 | 587 | ||
buildbin-out.txt | 14-Apr-2022 01:06 | 1.7K | ||