Name | Last modified | Size | Description | |
---|---|---|---|---|
Parent Directory | - | |||
install-out.txt | 14-Apr-2022 01:06 | 2.5K | ||
install-summary.dcf | 14-Apr-2022 01:06 | 733 | ||
buildsrc-out.txt | 14-Apr-2022 01:06 | 899 | ||
buildsrc-summary.dcf | 14-Apr-2022 01:06 | 501 | ||
checksrc-summary.dcf | 14-Apr-2022 01:06 | 504 | ||
checksrc-out.txt | 14-Apr-2022 01:06 | 3.7K | ||
buildbin-out.txt | 14-Apr-2022 01:06 | 1.8K | ||
buildbin-summary.dcf | 14-Apr-2022 01:06 | 602 | ||