Index of /checkResults/3.14/bioc-LATEST/ENVISIONQuery/raw-results/nebbiolo2
Name
Last modified
Size
Description
Parent Directory
-
buildsrc-out.txt
14-Apr-2022 01:05
1.3K
buildsrc-summary.dcf
14-Apr-2022 01:05
344
install-out.txt
14-Apr-2022 01:05
1.2K
install-summary.dcf
14-Apr-2022 01:05
271