Index of /checkResults/3.14/bioc-LATEST/ENVISIONQuery/raw-results/machv2
Name
Last modified
Size
Description
Parent Directory
-
buildsrc-out.txt
14-Apr-2022 01:07
1.4K
buildsrc-summary.dcf
14-Apr-2022 01:07
355
install-out.txt
14-Apr-2022 01:07
1.3K
install-summary.dcf
14-Apr-2022 01:07
281