Name | Last modified | Size | Description | |
---|---|---|---|---|
Parent Directory | - | |||
buildsrc-out.txt | 14-Apr-2022 01:05 | 951 | ||
buildsrc-summary.dcf | 14-Apr-2022 01:05 | 456 | ||
checksrc-out.txt | 14-Apr-2022 01:05 | 3.6K | ||
checksrc-summary.dcf | 14-Apr-2022 01:05 | 475 | ||
install-out.txt | 14-Apr-2022 01:05 | 2.7K | ||
install-summary.dcf | 14-Apr-2022 01:05 | 284 | ||