Name | Last modified | Size | Description | |
---|---|---|---|---|
Parent Directory | - | |||
buildbin-out.txt | 14-Apr-2022 01:07 | 3.4K | ||
buildbin-summary.dcf | 14-Apr-2022 01:07 | 608 | ||
buildsrc-out.txt | 14-Apr-2022 01:07 | 961 | ||
buildsrc-summary.dcf | 14-Apr-2022 01:07 | 466 | ||
checksrc-out.txt | 14-Apr-2022 01:07 | 4.3K | ||
checksrc-summary.dcf | 14-Apr-2022 01:07 | 495 | ||
install-out.txt | 14-Apr-2022 01:07 | 2.3K | ||
install-summary.dcf | 14-Apr-2022 01:07 | 295 | ||