Name | Last modified | Size | Description | |
---|---|---|---|---|
Parent Directory | - | |||
install-out.txt | 14-Apr-2022 01:07 | 3.3K | ||
install-summary.dcf | 14-Apr-2022 01:07 | 267 | ||
buildsrc-out.txt | 14-Apr-2022 01:07 | 842 | ||
buildsrc-summary.dcf | 14-Apr-2022 01:07 | 424 | ||
checksrc-out.txt | 14-Apr-2022 01:07 | 4.4K | ||
checksrc-summary.dcf | 14-Apr-2022 01:07 | 440 | ||
buildbin-out.txt | 14-Apr-2022 01:07 | 4.1K | ||
buildbin-summary.dcf | 14-Apr-2022 01:07 | 524 | ||