Name | Last modified | Size | Description | |
---|---|---|---|---|
Parent Directory | - | |||
install-out.txt | 14-Apr-2022 01:05 | 946 | ||
install-summary.dcf | 14-Apr-2022 01:05 | 253 | ||
buildsrc-out.txt | 14-Apr-2022 01:05 | 857 | ||
buildsrc-summary.dcf | 14-Apr-2022 01:05 | 408 | ||
checksrc-summary.dcf | 14-Apr-2022 01:05 | 412 | ||
checksrc-out.txt | 14-Apr-2022 01:05 | 3.3K | ||