Name | Last modified | Size | Description | |
---|---|---|---|---|
Parent Directory | - | |||
buildbin-out.txt | 14-Apr-2022 01:07 | 3.3K | ||
buildbin-summary.dcf | 14-Apr-2022 01:07 | 534 | ||
buildsrc-out.txt | 14-Apr-2022 01:07 | 889 | ||
buildsrc-summary.dcf | 14-Apr-2022 01:07 | 427 | ||
checksrc-out.txt | 14-Apr-2022 01:07 | 3.6K | ||
checksrc-summary.dcf | 14-Apr-2022 01:07 | 446 | ||
install-out.txt | 14-Apr-2022 01:07 | 2.5K | ||
install-summary.dcf | 14-Apr-2022 01:07 | 270 | ||