Name | Last modified | Size | Description | |
---|---|---|---|---|
Parent Directory | - | |||
buildbin-out.txt | 14-Apr-2022 01:06 | 5.8K | ||
buildbin-summary.dcf | 14-Apr-2022 01:06 | 530 | ||
buildsrc-out.txt | 14-Apr-2022 01:06 | 839 | ||
buildsrc-summary.dcf | 14-Apr-2022 01:06 | 450 | ||
checksrc-out.txt | 14-Apr-2022 01:06 | 8.2K | ||
checksrc-summary.dcf | 14-Apr-2022 01:06 | 456 | ||
install-out.txt | 14-Apr-2022 01:06 | 6.5K | ||
install-summary.dcf | 14-Apr-2022 01:06 | 626 | ||