Name | Last modified | Size | Description | |
---|---|---|---|---|
Parent Directory | - | |||
buildsrc-out.txt | 14-Apr-2022 01:05 | 858 | ||
buildsrc-summary.dcf | 14-Apr-2022 01:05 | 455 | ||
checksrc-out.txt | 14-Apr-2022 01:05 | 5.0K | ||
checksrc-summary.dcf | 14-Apr-2022 01:05 | 475 | ||
install-out.txt | 14-Apr-2022 01:05 | 1.0K | ||
install-summary.dcf | 14-Apr-2022 01:05 | 284 | ||