![]() | Name | Last modified | Size | Description |
---|---|---|---|---|
![]() | Parent Directory | - | ||
![]() | install-out.txt | 14-Apr-2022 01:06 | 2.3K | |
![]() | install-summary.dcf | 14-Apr-2022 01:06 | 676 | |
![]() | buildsrc-out.txt | 14-Apr-2022 01:06 | 791 | |
![]() | buildsrc-summary.dcf | 14-Apr-2022 01:06 | 473 | |
![]() | checksrc-out.txt | 14-Apr-2022 01:06 | 4.8K | |
![]() | checksrc-summary.dcf | 14-Apr-2022 01:06 | 478 | |
![]() | buildbin-out.txt | 14-Apr-2022 01:06 | 1.7K | |
![]() | buildbin-summary.dcf | 14-Apr-2022 01:06 | 563 | |