![]() | Name | Last modified | Size | Description |
---|---|---|---|---|
![]() | Parent Directory | - | ||
![]() | install-summary.dcf | 14-Apr-2022 01:05 | 267 | |
![]() | buildsrc-summary.dcf | 14-Apr-2022 01:05 | 428 | |
![]() | checksrc-summary.dcf | 14-Apr-2022 01:05 | 440 | |
![]() | buildsrc-out.txt | 14-Apr-2022 01:05 | 750 | |
![]() | install-out.txt | 14-Apr-2022 01:05 | 927 | |
![]() | checksrc-out.txt | 14-Apr-2022 01:05 | 3.9K | |