Name | Last modified | Size | Description | |
---|---|---|---|---|
Parent Directory | - | |||
buildbin-summary.dcf | 14-Apr-2022 01:07 | 554 | ||
buildbin-out.txt | 14-Apr-2022 01:07 | 1.1K | ||
checksrc-summary.dcf | 14-Apr-2022 01:07 | 460 | ||
checksrc-out.txt | 14-Apr-2022 01:07 | 3.9K | ||
buildsrc-summary.dcf | 14-Apr-2022 01:07 | 438 | ||
buildsrc-out.txt | 14-Apr-2022 01:07 | 760 | ||
install-summary.dcf | 14-Apr-2022 01:07 | 277 | ||
install-out.txt | 14-Apr-2022 01:07 | 960 | ||