Name | Last modified | Size | Description | |
---|---|---|---|---|
Parent Directory | - | |||
install-out.txt | 14-Apr-2022 01:06 | 7.6K | ||
install-summary.dcf | 14-Apr-2022 01:06 | 626 | ||
buildsrc-out.txt | 14-Apr-2022 01:06 | 904 | ||
buildsrc-summary.dcf | 14-Apr-2022 01:06 | 453 | ||
checksrc-out.txt | 14-Apr-2022 01:06 | 5.5K | ||
checksrc-summary.dcf | 14-Apr-2022 01:06 | 456 | ||
buildbin-out.txt | 14-Apr-2022 01:06 | 6.9K | ||
buildbin-summary.dcf | 14-Apr-2022 01:06 | 531 | ||