Name | Last modified | Size | Description | |
---|---|---|---|---|
Parent Directory | - | |||
install-out.txt | 14-Apr-2022 01:06 | 4.2K | ||
install-summary.dcf | 14-Apr-2022 01:06 | 649 | ||
buildsrc-summary.dcf | 14-Apr-2022 01:06 | 463 | ||
buildsrc-out.txt | 14-Apr-2022 01:06 | 850 | ||
checksrc-summary.dcf | 14-Apr-2022 01:06 | 466 | ||
checksrc-out.txt | 14-Apr-2022 01:06 | 3.8K | ||
buildbin-out.txt | 14-Apr-2022 01:06 | 3.5K | ||
buildbin-summary.dcf | 14-Apr-2022 01:06 | 545 | ||