Name | Last modified | Size | Description | |
---|---|---|---|---|
Parent Directory | - | |||
buildbin-out.txt | 14-Apr-2022 01:06 | 2.7K | ||
buildbin-summary.dcf | 14-Apr-2022 01:06 | 524 | ||
buildsrc-out.txt | 14-Apr-2022 01:06 | 894 | ||
buildsrc-summary.dcf | 14-Apr-2022 01:06 | 449 | ||
checksrc-out.txt | 14-Apr-2022 01:06 | 4.1K | ||
checksrc-summary.dcf | 14-Apr-2022 01:06 | 452 | ||
install-out.txt | 14-Apr-2022 01:06 | 3.4K | ||
install-summary.dcf | 14-Apr-2022 01:06 | 616 | ||