Index of /checkResults/3.14/bioc-LATEST/BrainStars/raw-results/nebbiolo2
Name
Last modified
Size
Description
Parent Directory
-
buildsrc-out.txt
14-Apr-2022 01:05
2.0K
buildsrc-summary.dcf
14-Apr-2022 01:05
339
install-out.txt
14-Apr-2022 01:05
1.1K
install-summary.dcf
14-Apr-2022 01:05
264