Name | Last modified | Size | Description | |
---|---|---|---|---|
Parent Directory | - | |||
install-out.txt | 14-Apr-2022 01:06 | 62K | ||
install-summary.dcf | 14-Apr-2022 01:06 | 668 | ||
buildsrc-out.txt | 14-Apr-2022 01:06 | 952 | ||
buildsrc-summary.dcf | 14-Apr-2022 01:06 | 470 | ||
checksrc-out.txt | 14-Apr-2022 01:06 | 8.2K | ||
checksrc-summary.dcf | 14-Apr-2022 01:06 | 481 | ||
buildbin-summary.dcf | 14-Apr-2022 01:06 | 558 | ||
buildbin-out.txt | 14-Apr-2022 01:06 | 61K | ||