Name | Last modified | Size | Description | |
---|---|---|---|---|
Parent Directory | - | |||
buildbin-out.txt | 14-Apr-2022 01:06 | 11K | ||
buildbin-summary.dcf | 14-Apr-2022 01:06 | 570 | ||
buildsrc-out.txt | 14-Apr-2022 01:06 | 1.0K | ||
buildsrc-summary.dcf | 14-Apr-2022 01:06 | 479 | ||
checksrc-out.txt | 14-Apr-2022 01:06 | 5.7K | ||
checksrc-summary.dcf | 14-Apr-2022 01:06 | 482 | ||
install-out.txt | 14-Apr-2022 01:06 | 12K | ||
install-summary.dcf | 14-Apr-2022 01:06 | 686 | ||