Name | Last modified | Size | Description | |
---|---|---|---|---|
Parent Directory | - | |||
checksrc-out.txt | 14-Apr-2022 01:06 | 3.6K | ||
install-out.txt | 14-Apr-2022 01:06 | 2.5K | ||
buildbin-out.txt | 14-Apr-2022 01:06 | 1.8K | ||
buildsrc-out.txt | 14-Apr-2022 01:06 | 931 | ||
install-summary.dcf | 14-Apr-2022 01:06 | 724 | ||
buildbin-summary.dcf | 14-Apr-2022 01:06 | 595 | ||
checksrc-summary.dcf | 14-Apr-2022 01:06 | 499 | ||
buildsrc-summary.dcf | 14-Apr-2022 01:06 | 496 | ||