Name | Last modified | Size | Description | |
---|---|---|---|---|
Parent Directory | - | |||
buildsrc-out.txt | 14-Apr-2022 01:05 | 865 | ||
buildsrc-summary.dcf | 14-Apr-2022 01:05 | 413 | ||
checksrc-out.txt | 14-Apr-2022 01:05 | 12K | ||
checksrc-summary.dcf | 14-Apr-2022 01:05 | 420 | ||
install-out.txt | 14-Apr-2022 01:05 | 952 | ||
install-summary.dcf | 14-Apr-2022 01:05 | 257 | ||