Name | Last modified | Size | Description | |
---|---|---|---|---|
Parent Directory | - | |||
install-summary.dcf | 14-Apr-2022 01:06 | 679 | ||
install-out.txt | 14-Apr-2022 01:06 | 3.2K | ||
checksrc-summary.dcf | 14-Apr-2022 01:06 | 480 | ||
checksrc-out.txt | 14-Apr-2022 01:06 | 1.5K | ||
buildsrc-summary.dcf | 14-Apr-2022 01:06 | 475 | ||
buildsrc-out.txt | 14-Apr-2022 01:06 | 925 | ||
buildbin-summary.dcf | 14-Apr-2022 01:06 | 478 | ||
buildbin-out.txt | 14-Apr-2022 01:06 | 2.6K | ||