Index of /checkResults/3.13/workflows-LATEST/methylationArrayAnalysis/raw-results/nebbiolo1
Name
Last modified
Size
Description
Parent Directory
-
install-summary.dcf
16-Oct-2021 04:50
294
buildsrc-summary.dcf
16-Oct-2021 04:50
469
buildsrc-out.txt
16-Oct-2021 04:50
948
install-out.txt
16-Oct-2021 04:50
1.2K