Index of /checkResults/3.13/workflows-LATEST/maEndToEnd/raw-results/nebbiolo1
Name
Last modified
Size
Description
Parent Directory
-
install-summary.dcf
16-Oct-2021 04:50
265
install-out.txt
16-Oct-2021 04:50
1.1K
buildsrc-summary.dcf
16-Oct-2021 04:50
427
buildsrc-out.txt
16-Oct-2021 04:50
818