Index of /checkResults/3.13/workflows-LATEST/maEndToEnd/raw-results
Name
Last modified
Size
Description
Parent Directory
-
nebbiolo1/
16-Oct-2021 04:50
-
info.dcf
16-Oct-2021 04:50
288