Index of /checkResults/3.13/workflows-LATEST/eQTL/raw-results
Name
Last modified
Size
Description
Parent Directory
-
info.dcf
16-Oct-2021 04:50
272
nebbiolo1/
16-Oct-2021 04:50
-