Index of /checkResults/3.13/workflows-LATEST/BiocMetaWorkflow/raw-results/nebbiolo1
Name
Last modified
Size
Description
Parent Directory
-
buildsrc-out.txt
16-Oct-2021 04:50
876
buildsrc-summary.dcf
16-Oct-2021 04:50
443
install-out.txt
16-Oct-2021 04:50
963
install-summary.dcf
16-Oct-2021 04:50
276