Index of /checkResults/3.13/data-experiment-LATEST/scRNAseq/raw-results
Name
Last modified
Size
Description
Parent Directory
-
info.dcf
17-Oct-2021 04:58
290
malbec2/
17-Oct-2021 04:58
-