Index of /checkResults/3.13/data-experiment-LATEST/gskb/raw-results/malbec2
Name
Last modified
Size
Description
Parent Directory
-
install-summary.dcf
17-Oct-2021 04:58
252
install-out.txt
17-Oct-2021 04:58
1.1K
buildsrc-summary.dcf
17-Oct-2021 04:58
326
buildsrc-out.txt
17-Oct-2021 04:58
1.0K