Index of /checkResults/3.13/data-experiment-LATEST/gskb/raw-results
Name
Last modified
Size
Description
Parent Directory
-
info.dcf
17-Oct-2021 04:58
271
malbec2/
17-Oct-2021 04:58
-