Name | Last modified | Size | Description | |
---|---|---|---|---|
Parent Directory | - | |||
install-summary.dcf | 17-Oct-2021 04:58 | 278 | ||
install-out.txt | 17-Oct-2021 04:58 | 953 | ||
checksrc-summary.dcf | 17-Oct-2021 04:58 | 461 | ||
checksrc-out.txt | 17-Oct-2021 04:58 | 3.1K | ||
buildsrc-summary.dcf | 17-Oct-2021 04:58 | 445 | ||
buildsrc-out.txt | 17-Oct-2021 04:58 | 773 | ||