Name | Last modified | Size | Description | |
---|---|---|---|---|
Parent Directory | - | |||
buildsrc-out.txt | 17-Oct-2021 04:58 | 829 | ||
buildsrc-summary.dcf | 17-Oct-2021 04:58 | 439 | ||
checksrc-out.txt | 17-Oct-2021 04:58 | 7.0K | ||
checksrc-summary.dcf | 17-Oct-2021 04:58 | 461 | ||
install-out.txt | 17-Oct-2021 04:58 | 1.3K | ||
install-summary.dcf | 17-Oct-2021 04:58 | 274 | ||