Index of /checkResults/3.13/data-experiment-LATEST/ceu1kgv/raw-results/malbec2
Name
Last modified
Size
Description
Parent Directory
-
buildsrc-out.txt
17-Oct-2021 04:58
872
buildsrc-summary.dcf
17-Oct-2021 04:58
332
install-out.txt
17-Oct-2021 04:58
624
install-summary.dcf
17-Oct-2021 04:58
261