Index of /checkResults/3.13/data-experiment-LATEST/ceu1kg/raw-results/malbec2
Name
Last modified
Size
Description
Parent Directory
-
buildsrc-summary.dcf
17-Oct-2021 04:58
330
install-out.txt
17-Oct-2021 04:58
639
install-summary.dcf
17-Oct-2021 04:58
259
buildsrc-out.txt
17-Oct-2021 04:58
884