Name | Last modified | Size | Description | |
---|---|---|---|---|
Parent Directory | - | |||
buildsrc-out.txt | 17-Oct-2021 04:58 | 1.6K | ||
buildsrc-summary.dcf | 17-Oct-2021 04:58 | 454 | ||
checksrc-out.txt | 17-Oct-2021 04:58 | 4.1K | ||
checksrc-summary.dcf | 17-Oct-2021 04:58 | 474 | ||
install-out.txt | 17-Oct-2021 04:58 | 1.0K | ||
install-summary.dcf | 17-Oct-2021 04:58 | 284 | ||