Name | Last modified | Size | Description | |
---|---|---|---|---|
Parent Directory | - | |||
buildsrc-summary.dcf | 17-Oct-2021 04:58 | 456 | ||
install-out.txt | 17-Oct-2021 04:58 | 928 | ||
install-summary.dcf | 17-Oct-2021 04:58 | 285 | ||
buildsrc-out.txt | 17-Oct-2021 04:58 | 921 | ||
checksrc-out.txt | 17-Oct-2021 04:58 | 3.2K | ||
checksrc-summary.dcf | 17-Oct-2021 04:58 | 475 | ||