Name | Last modified | Size | Description | |
---|---|---|---|---|
Parent Directory | - | |||
install-out.txt | 17-Oct-2021 04:58 | 898 | ||
install-summary.dcf | 17-Oct-2021 04:58 | 263 | ||
buildsrc-summary.dcf | 17-Oct-2021 04:58 | 424 | ||
buildsrc-out.txt | 17-Oct-2021 04:58 | 857 | ||
checksrc-summary.dcf | 17-Oct-2021 04:58 | 433 | ||
checksrc-out.txt | 17-Oct-2021 04:58 | 2.8K | ||