Name | Last modified | Size | Description | |
---|---|---|---|---|
Parent Directory | - | |||
buildsrc-out.txt | 17-Oct-2021 04:58 | 929 | ||
buildsrc-summary.dcf | 17-Oct-2021 04:58 | 516 | ||
checksrc-out.txt | 17-Oct-2021 04:58 | 3.1K | ||
checksrc-summary.dcf | 17-Oct-2021 04:58 | 555 | ||
install-out.txt | 17-Oct-2021 04:58 | 964 | ||
install-summary.dcf | 17-Oct-2021 04:58 | 325 | ||