Name | Last modified | Size | Description | |
---|---|---|---|---|
Parent Directory | - | |||
install-summary.dcf | 17-Oct-2021 04:58 | 269 | ||
install-out.txt | 17-Oct-2021 04:58 | 938 | ||
checksrc-summary.dcf | 17-Oct-2021 04:58 | 444 | ||
checksrc-out.txt | 17-Oct-2021 04:58 | 3.3K | ||
buildsrc-summary.dcf | 17-Oct-2021 04:58 | 431 | ||
buildsrc-out.txt | 17-Oct-2021 04:58 | 817 | ||