Name | Last modified | Size | Description | |
---|---|---|---|---|
Parent Directory | - | |||
checksrc-out.txt | 17-Oct-2021 04:58 | 3.0K | ||
install-out.txt | 17-Oct-2021 04:58 | 939 | ||
buildsrc-out.txt | 17-Oct-2021 04:58 | 885 | ||
checksrc-summary.dcf | 17-Oct-2021 04:58 | 511 | ||
buildsrc-summary.dcf | 17-Oct-2021 04:58 | 482 | ||
install-summary.dcf | 17-Oct-2021 04:58 | 303 | ||