Name | Last modified | Size | Description | |
---|---|---|---|---|
Parent Directory | - | |||
install-summary.dcf | 17-Oct-2021 04:58 | 261 | ||
install-out.txt | 17-Oct-2021 04:58 | 958 | ||
checksrc-summary.dcf | 17-Oct-2021 04:58 | 427 | ||
checksrc-out.txt | 17-Oct-2021 04:58 | 5.6K | ||
buildsrc-summary.dcf | 17-Oct-2021 04:58 | 420 | ||
buildsrc-out.txt | 17-Oct-2021 04:58 | 873 | ||