Name | Last modified | Size | Description | |
---|---|---|---|---|
Parent Directory | - | |||
buildsrc-out.txt | 17-Oct-2021 04:58 | 829 | ||
buildsrc-summary.dcf | 17-Oct-2021 04:58 | 433 | ||
checksrc-summary.dcf | 17-Oct-2021 04:58 | 446 | ||
install-out.txt | 17-Oct-2021 04:58 | 965 | ||
install-summary.dcf | 17-Oct-2021 04:58 | 270 | ||
checksrc-out.txt | 17-Oct-2021 04:58 | 3.4K | ||