Index of /checkResults/3.13/data-experiment-LATEST/MSstatsBioData/raw-results/malbec2
Name
Last modified
Size
Description
Parent Directory
-
install-summary.dcf
17-Oct-2021 04:58
272
install-out.txt
17-Oct-2021 04:58
953
buildsrc-summary.dcf
17-Oct-2021 04:58
346
buildsrc-out.txt
17-Oct-2021 04:58
1.2K