Name | Last modified | Size | Description | |
---|---|---|---|---|
Parent Directory | - | |||
install-summary.dcf | 17-Oct-2021 04:58 | 266 | ||
buildsrc-summary.dcf | 17-Oct-2021 04:58 | 428 | ||
checksrc-summary.dcf | 17-Oct-2021 04:58 | 445 | ||
buildsrc-out.txt | 17-Oct-2021 04:58 | 813 | ||
install-out.txt | 17-Oct-2021 04:58 | 885 | ||
checksrc-out.txt | 17-Oct-2021 04:58 | 4.6K | ||