Name | Last modified | Size | Description | |
---|---|---|---|---|
Parent Directory | - | |||
buildsrc-out.txt | 17-Oct-2021 04:58 | 806 | ||
buildsrc-summary.dcf | 17-Oct-2021 04:58 | 417 | ||
install-out.txt | 17-Oct-2021 04:58 | 924 | ||
install-summary.dcf | 17-Oct-2021 04:58 | 259 | ||
checksrc-out.txt | 17-Oct-2021 04:58 | 3.6K | ||
checksrc-summary.dcf | 17-Oct-2021 04:58 | 429 | ||