Name | Last modified | Size | Description | |
---|---|---|---|---|
Parent Directory | - | |||
buildsrc-out.txt | 17-Oct-2021 04:58 | 846 | ||
buildsrc-summary.dcf | 17-Oct-2021 04:58 | 446 | ||
checksrc-out.txt | 17-Oct-2021 04:58 | 3.4K | ||
checksrc-summary.dcf | 17-Oct-2021 04:58 | 463 | ||
install-out.txt | 17-Oct-2021 04:58 | 954 | ||
install-summary.dcf | 17-Oct-2021 04:58 | 278 | ||